BEGIN:VCALENDAR
VERSION:2.0
PRODID:-//Citroen Car Club of Queensland Inc. - ECPv6.15.18//NONSGML v1.0//EN
CALSCALE:GREGORIAN
METHOD:PUBLISH
X-WR-CALNAME:Citroen Car Club of Queensland Inc.
X-ORIGINAL-URL:https://citroenclubqld.org
X-WR-CALDESC:Events for Citroen Car Club of Queensland Inc.
REFRESH-INTERVAL;VALUE=DURATION:PT1H
X-Robots-Tag:noindex
X-PUBLISHED-TTL:PT1H
BEGIN:VTIMEZONE
TZID:Australia/Brisbane
BEGIN:STANDARD
TZOFFSETFROM:+1000
TZOFFSETTO:+1000
TZNAME:AEST
DTSTART:20250101T000000
END:STANDARD
END:VTIMEZONE
BEGIN:VEVENT
DTSTART;TZID=Australia/Brisbane:20260426T090000
DTEND;TZID=Australia/Brisbane:20260426T140000
DTSTAMP:20260419T193238
CREATED:20260401T084921Z
LAST-MODIFIED:20260401T084921Z
UID:8752-1777194000-1777212000@citroenclubqld.org
SUMMARY:PICNIC AND FUN GAMES AT THE LAKE
DESCRIPTION:Sunday 26th April 2026\nfrom 9am onwards\nThe spit at Somerset Dam BBQ and picnic area\nWhat a fun way to spend a lovely Sunday morning at the beautiful Somerset Dam. \nBring your picnic basket\, your sandwiches or even BBQ meat and veggies for a cook up — your call. \nAnd of course\, nice hot coffee and some bubbles for later perhaps? \nSo come and join us for a fun morning with a fantastic group of people. \nWe will also do some games to make it even more fun for everyone. \nIf you would like to attend please contact Viktor by email president@citroenclubqld.org\n   \n 
URL:https://citroenclubqld.org/event/picnic-and-fun-games-at-the-lake/
LOCATION:The Spit\, Somerset Dam\, Lake Somerset\, Queensland\, Australia
CATEGORIES:Club Outings,New Event
ORGANIZER;CN="Viktor Ponty":MAILTO:events@citroenclubqld.org
END:VEVENT
BEGIN:VEVENT
DTSTART;TZID=Australia/Brisbane:20260515T080000
DTEND;TZID=Australia/Brisbane:20260517T180000
DTSTAMP:20260419T193238
CREATED:20260402T103902Z
LAST-MODIFIED:20260419T050927Z
UID:8765-1778832000-1779040800@citroenclubqld.org
SUMMARY:Weekend Run - in lieu of Cit-in @ Collie
DESCRIPTION:The “Not-in-Collie” Toowoomba Weekend Run\nSince we can’t make it to the West\, we’re heading to the Crest! \nJoin us for a weekend of hydraulic comfort as we explore the “Garden City” of Toowoomba and the rolling hills of the Darling Downs.\nMore details as they become available − check for updates here soon\,
URL:https://citroenclubqld.org/event/weekend-run-in-lieu-of-cit-in-collie/
LOCATION:Toowoomba\, Toowoomba\, Queensland\, Australia
ORGANIZER;CN="Viktor Ponty":MAILTO:events@citroenclubqld.org
END:VEVENT
BEGIN:VEVENT
DTSTART;TZID=Australia/Brisbane:20260515T100000
DTEND;TZID=Australia/Brisbane:20260518T190000
DTSTAMP:20260419T193238
CREATED:20260103T101711Z
LAST-MODIFIED:20260401T085011Z
UID:8512-1778839200-1779130800@citroenclubqld.org
SUMMARY:CANCELLED:   Cit-in @ Collie\, WA
DESCRIPTION:Cit-in 2026 @ Collie WA\n\n\nACE members are excited to be hosting the 57th annual Cit-in in Collie\, Western Australia over the weekend 15 – 18 May 2026. If you are interested in attending this event involving loads of Citroëns\, comradeship\, fun and great conversations then email citinrego.collie2026@gmail.com to receive a registration form and other information. \nCit-in 2026 pre run: This will start at Fraser Range and include such towns as Esperance and Albany enroute to Collie. \nCit-in 2026 post run Anne Beadell: Feasibility of a run from Collie to Coober Pedy via the Anne Beadell is being investigated. \nCit-in 2026 post run north:  Option of a run taking in Kalbarri and towns north and east of Perth are being considered. \nInterested – Let us know via email.  info@citroenwa.org.au
URL:https://citroenclubqld.org/event/cancelled-57th-annual-cit-in-collie-wa/
LOCATION:Collie Ridge Resort\, 185/195 Throssell St\, Collie\, Western Australia\, 6225\, Australia
CATEGORIES:Cit-in
ORGANIZER;CN="Association of Citro%C3%ABn Enthusiasts WA":MAILTO:citinrego.collie2026@gmail.com
END:VEVENT
BEGIN:VEVENT
DTSTART;TZID=Australia/Brisbane:20260614T100000
DTEND;TZID=Australia/Brisbane:20260614T150000
DTSTAMP:20260419T193238
CREATED:20260103T114107Z
LAST-MODIFIED:20260103T114958Z
UID:8529-1781431200-1781449200@citroenclubqld.org
SUMMARY:RACQ Motorfest 2026
DESCRIPTION:Vehicle registrations are free and will open on Monday 2nd March 2026 and will be accessible from our website\, or if you are a past MotorFest exhibitor you will receive an email with a direct link to the online form.
URL:https://citroenclubqld.org/event/racq-motorfest-2026/
LOCATION:Brisbane Showgrounds\, 600 Gregory Terrace\, Bowen Hills\, QLD\, 4006\, Australia
CATEGORIES:Club Outings,Weekend event
ORGANIZER;CN="RACQ":MAILTO:events@racq.com.au
END:VEVENT
BEGIN:VEVENT
DTSTART;VALUE=DATE:20260705
DTEND;VALUE=DATE:20260706
DTSTAMP:20260419T193238
CREATED:20260103T114756Z
LAST-MODIFIED:20260308T062217Z
UID:8534-1783209600-1783295999@citroenclubqld.org
SUMMARY:Grand Display of French Cars 2026
DESCRIPTION:For more info visit peugeotclubqld.org.au
URL:https://citroenclubqld.org/event/grand-display-of-french-cars-2026/
LOCATION:TradeCoast Central Heritage Park\, 87 Schneider Road\, Eagle Farm\, Queensland\, 4009\, Australia
CATEGORIES:Club Outings,Weekend event
ORGANIZER;CN="Peugeot Car Club of Qld":MAILTO:pcqinfo@peugeotclubqld.org.au
END:VEVENT
BEGIN:VEVENT
DTSTART;VALUE=DATE:20260724
DTEND;VALUE=DATE:20260727
DTSTAMP:20260419T193238
CREATED:20260103T115418Z
LAST-MODIFIED:20260201T001138Z
UID:8537-1784851200-1785110399@citroenclubqld.org
SUMMARY:French Festival - Brisbane
DESCRIPTION:French Festival – Brisbane Southbank parklands come and showcase your cars once again this year for the French festival on Friday night and or Saturday all day (please refer to flyer for more info. \nGet ready to sip Champagne with the stunning Brisbane skyline as your backdrop\, gaze at the sparkling Tour de Paris\, and admire the bridges and the Wheel of Brisbane illuminated in “bleu-blanc-rouge”. Let the aromas of cheese and raclette “à volonté” fill the air\, while you indulge in the latest French pâtisseries\, all to the joyful tunes of traditional “Guinguette” music. \nOnce your basket is full of French linens\, gourmet groceries\, and souvenirs of every kind\, sit back and enjoy a celebration of French culture like no other. \nThis year\, we’re bringing even more authentic\, homemade entertainment to complement our fantastic live performances on stage – adding a brand-new layer to your immersive experience.
URL:https://citroenclubqld.org/event/french-festival-brisbane-2/
LOCATION:South Bank Parklands\, Brisbane\, Australia
CATEGORIES:Club Outings,Sanctioned Event,Weekend event
ATTACH;FMTTYPE=image/jpeg:https://citroenclubqld.org/wp-content/uploads/2025/01/LeFestival.jpg
ORGANIZER;CN="Viktor Ponty":MAILTO:events@citroenclubqld.org
END:VEVENT
BEGIN:VEVENT
DTSTART;VALUE=DATE:20260725
DTEND;VALUE=DATE:20260726
DTSTAMP:20260419T193238
CREATED:20260103T115738Z
LAST-MODIFIED:20260103T115738Z
UID:8539-1784937600-1785023999@citroenclubqld.org
SUMMARY:CCCQ - Christmas in July
DESCRIPTION:Venue and Details to be confirmed \nVolunteer to organise is needed – contact Viktor\,
URL:https://citroenclubqld.org/event/cccq-christmas-in-july-2/
LOCATION:To Be Advised
END:VEVENT
BEGIN:VEVENT
DTSTART;TZID=Australia/Brisbane:20260816T110000
DTEND;TZID=Australia/Brisbane:20260816T150000
DTSTAMP:20260419T193238
CREATED:20250726T125428Z
LAST-MODIFIED:20260104T012456Z
UID:7962-1786878000-1786892400@citroenclubqld.org
SUMMARY:CCCQ Sports Day
DESCRIPTION:CCCQ SPORT’S DAY 2026\nSUNDAY 16th AUGUST\nfrom 11am till 3pm\nT.C. Beirne Park (This is the correct spelling) 77 Gerler Rd Hendra Q 4011\nParking:   Available in the streets on three sides of the park.\nBring:    Chairs\, drinks and picnic lunch. Description:\nThe CCCQ Sports’ Day this year will be a picnic day with some fun games / sports’ activities.\nBring your chairs\, drinks and picnic lunch and be ready to join in some fun and games.\nPublic toilets are on site. Beautiful Jacarandatrees provide much of the park’s shade.\n \nThis day is intended as a great way to enjoy the company of the Club’s membership through a few games and sport competitions. Thesewill include a selection of the following: Воссе Crockett| Finska Frisbee Golf | Golf Putting skill and French Cricket If we get enough participants then we will have a scoring process in teams of 2 and will organise some prizes. Fun Fact: This park was once part of the home estate of Brisbane retailer Thomas Charles Beirne. His original Department store T.C. Beirne was built at 28 Duncan Street Fortitude Valley in 1902 was heritage listed in 2003. (Worth a look) His stores were also very well known in the 1920’s through to early 1960’s in Brunswick and Ann Street in the City.  \nEmail Eric Greentree if you will be attending
URL:https://citroenclubqld.org/event/cccq-sports-day-2/
LOCATION:T.C. Beirne Park\, 77 Gerler Road\, Hendra\, Qld\, 4011\, Australia
CATEGORIES:Club Outings,Sanctioned Event,Weekend event
ORGANIZER;CN="Eric Greentree":MAILTO:membership@citroenclubqld.org
END:VEVENT
BEGIN:VEVENT
DTSTART;VALUE=DATE:20260901
DTEND;VALUE=DATE:20261001
DTSTAMP:20260419T193238
CREATED:20250103T030050Z
LAST-MODIFIED:20260103T121130Z
UID:7323-1788220800-1790812799@citroenclubqld.org
SUMMARY:GOLDEN ERA AUTO RACING (QLD) INC
DESCRIPTION:A day to attend – G.E.A.R – Drive Day – Bring a picnic lunch and to watch historical motor racing. \nDate in September To Be Confirmed\nThe GEAR Club Inc. organise events specifically to provide their members with the opportunity for the sheer enjoyment and pleasure of using their old racing and sports cars in a safe\, affordable\, regulated and social motorsport environment.
URL:https://citroenclubqld.org/event/golden-era-auto-racing-qld-inc/
LOCATION:G.E.A.R.\, Lakeside Park Raceway\, Lakeside Rd\, Kurwongbah\, QLD\, 4503\, Australia
ORGANIZER;CN="Eric Greentree":MAILTO:membership@citroenclubqld.org
END:VEVENT
BEGIN:VEVENT
DTSTART;TZID=Australia/Brisbane:20260905T110000
DTEND;TZID=Australia/Brisbane:20260905T160000
DTSTAMP:20260419T193238
CREATED:20260103T120738Z
LAST-MODIFIED:20260108T234118Z
UID:8544-1788606000-1788624000@citroenclubqld.org
SUMMARY:Un Long Déjeuner Printanier (A Spring Long Lunch)
DESCRIPTION:Mark and Pam’s weekend lunch @ their Gold Coast residence \naddress will be provided at a later date \nA fully French inspired lunch/day out with French food French music French cars only of course and all to do with frenchness haha
URL:https://citroenclubqld.org/event/un-long-dejeuner-printanier-a-spring-long-lunch/
LOCATION:To Be Advised
CATEGORIES:Club Outings,New Event,Sanctioned Event,Weekend event
ORGANIZER;CN="Mark Turpin and Pam Lowry":MAILTO:pamark47@bigpond.net.au
END:VEVENT
BEGIN:VEVENT
DTSTART;VALUE=DATE:20261009
DTEND;VALUE=DATE:20261013
DTSTAMP:20260419T193238
CREATED:20251006T002312Z
LAST-MODIFIED:20260103T121604Z
UID:8218-1791504000-1791849599@citroenclubqld.org
SUMMARY:Gayndah 2026
DESCRIPTION:Gayndah Visit 2026\n \nPeter Huth\, long time CCCQ member in Gayndah has kindly invited the Club to come to Gayndah for a weekend visit. \nActivities will include a visit to a Peter’s place LeMason de Citroen on Saturday. Plenty of sight seeing outings \n(TBA) and Citroen chat! More details to come
URL:https://citroenclubqld.org/event/gayndah-2025/
LOCATION:Queensland
CATEGORIES:Club Outings,Sanctioned Event,Weekend event
ATTACH;FMTTYPE=image/jpeg:https://citroenclubqld.org/wp-content/uploads/2021/03/goingayndah.jpg
ORGANIZER;CN="Peter Huth":MAILTO:secretary@citroenclubqld.org
END:VEVENT
BEGIN:VEVENT
DTSTART;TZID=Australia/Brisbane:20261205T120000
DTEND;TZID=Australia/Brisbane:20261205T150000
DTSTAMP:20260419T193238
CREATED:20250103T031022Z
LAST-MODIFIED:20260103T121841Z
UID:7330-1796472000-1796482800@citroenclubqld.org
SUMMARY:CCCQ Christmas Party
DESCRIPTION:Come and celebrate the year that’s been and join in the Festive Season celebrations.\nSaturday 5th December\nFurther details will be provided.
URL:https://citroenclubqld.org/event/cccq-christmas-party/
LOCATION:CCCQ Clubhouse\, 51 Crewe Street\, Mount Gravatt\, Queensland\, 4122\, Australia
CATEGORIES:Christmas Events,Club Outings,Sanctioned Event
ORGANIZER;CN="Lance Wearne":MAILTO:secretary@citroenclubqld.org
END:VEVENT
END:VCALENDAR